BEGIN:VCALENDAR
VERSION:2.0
PRODID:-//Homes With Jan//Event//EN
CALSCALE:GREGORIAN
BEGIN:VEVENT
UID:22563@homeswithjan.com
DTSTAMP:20260420T151555Z
DTSTART:20250511T090000
DTEND:20250511T100000
RRULE:FREQ=WEEKLY;BYDAY=SU;UNTIL=20280412T235959Z
SUMMARY:Evergreen Cars &#038; Coffee
LOCATION:
DESCRIPTION:Come join us every Sunday May 4th through October 26th\, 9:00 AM to 11:00 AM. All Makes and Models welcome!
URL:https://homeswithjan.com/events/evergreen-ars-coffee-2/
END:VEVENT
END:VCALENDAR