BEGIN:VCALENDAR
VERSION:2.0
PRODID:-//Homes With Jan//Event//EN
CALSCALE:GREGORIAN
BEGIN:VEVENT
UID:22577@homeswithjan.com
DTSTAMP:20260423T101314Z
DTSTART:20260303T180000
DTEND:20260303T190000
RRULE:FREQ=WEEKLY;BYDAY=TU;UNTIL=20280412T235959Z
SUMMARY:Dungeons &#038; Dragons Adventure League
LOCATION:Contrarian's Game Cafe\, 14313 NE 20th Ave # A112\, Vancouver\, WA 98686
DESCRIPTION:Whether you're new and want to give the game a try\, or an experienced player!\n\nMore information here
URL:https://homeswithjan.com/events/dungeons-dragons-adventure-league-2/
END:VEVENT
END:VCALENDAR
